BEGIN:VCALENDAR
VERSION:2.0
PRODID:-//La Vega Innova - ECPv6.2.2.1//NONSGML v1.0//EN
CALSCALE:GREGORIAN
METHOD:PUBLISH
X-ORIGINAL-URL:https://lavegainnova.es
X-WR-CALDESC:Eventos para La Vega Innova
REFRESH-INTERVAL;VALUE=DURATION:PT1H
X-Robots-Tag:noindex
X-PUBLISHED-TTL:PT1H
BEGIN:VTIMEZONE
TZID:Europe/Madrid
BEGIN:DAYLIGHT
TZOFFSETFROM:+0100
TZOFFSETTO:+0200
TZNAME:CEST
DTSTART:20260329T010000
END:DAYLIGHT
BEGIN:STANDARD
TZOFFSETFROM:+0200
TZOFFSETTO:+0100
TZNAME:CET
DTSTART:20261025T010000
END:STANDARD
END:VTIMEZONE
BEGIN:VEVENT
DTSTART;TZID=Europe/Madrid:20260427T160000
DTEND;TZID=Europe/Madrid:20260430T140000
DTSTAMP:20260423T232114
CREATED:20260323T084347Z
LAST-MODIFIED:20260323T084347Z
UID:5027-1777305600-1777557600@lavegainnova.es
SUMMARY:Python para la Inteligencia Artificial: De los Datos a las Redes Neuronales Aplicadas al sector agroalimentario
DESCRIPTION:Este curso busca ofrecer una base para la capacitación en competencias digitales avanzadas específicamente orientadas al sector agroalimentario\, facilitando la adquisición de habilidades en analítica de datos\, modelado predictivo y desarrollo de redes neuronales aplicadas a problemas reales del entorno productivo. \nInscripciones hasta el 22 de abril
URL:https://lavegainnova.es/evento/python-para-la-inteligencia-artificial-de-los-datos-a-las-redes-neuronales-aplicadas-al-sector-agroalimentario/
LOCATION:La Vega Innova\, iHub La Vega Innova\, Camino de la Vega\, s/n\, San Fernando de Henares\, Madrid\, 28830\, Spain
CATEGORIES:Formación
ATTACH;FMTTYPE=image/png:https://lavegainnova.es/wp-content/uploads/2026/03/curso-python-2026_TW.png
ORGANIZER;CN="La Vega Innova":MAILTO:info@lavegainnova.es
END:VEVENT
BEGIN:VEVENT
DTSTART;TZID=Europe/Madrid:20260428T093000
DTEND;TZID=Europe/Madrid:20260428T153000
DTSTAMP:20260423T232114
CREATED:20260415T133107Z
LAST-MODIFIED:20260415T142913Z
UID:5146-1777368600-1777390200@lavegainnova.es
SUMMARY:Jornada asesores AKIS “El Asesoramiento Agrario como Eje del AKIS en España y Europa"
DESCRIPTION:El Ministerio de Agricultura\, Pesca y Alimentación organiza la jornada “El asesor agrario como eje del AKIS en España y Europa”\, que se celebra en iHub La Vega Innova y que cuenta con la presencia de la Secretaria de Estado de Agricultura y Alimentación (MAPA)\, Begoña García Bernal. \nPROGRAMA \n🚌 09:30 | Salida de autobús desde Atocha \n🔹 10:30 – 10:50 | Inauguración institucional \nBegoña García Bernal\nSecretaria de Estado de Agricultura y Alimentación (MAPA) \n🔹 10:50 – 11:05 | El asesoramiento agrario en la futura PAC (2028–2034) \nMarta Iglesias (DG AGRI\, Comisión Europea) \n🔹 11:05 – 11:40 | BLOQUE 1 – Situación y perspectivas del asesoramiento en España \nSituación del asesoramiento agrario en España (PAC 2023–2027)\nCDI Consultants \n\nDiagnóstico del sistema\nPrincipales fortalezas y limitaciones\n\nHacia sistemas de asesoramiento eficaces: visión estratégica\nInge Van Oost (Senior Policy Expert) & Isabel Bombal (MAPA) (english) \n☕ 11:40 – 12:10 | Pausa café – networking \n🔹 12:10 – 12:50 | BLOQUE 2 – Modelos internacionales de asesoramiento \nModelo TEAGASC (Irlanda) – Edgar García Manzanilla\n→ Integración investigación–asesoramiento–formación \nModelo privado de asesoramiento (Países Bajos) –Yaité Cuesta Arenas\n→ Profesionalización\, especialización y mercado \n💬 Preguntas y debate (10 min) \n  \n 🔹 12:50 – 13:50 | BLOQUE 3 – Asesoramiento en Red \n\n\n\nAuditorio | Subgrupos del GT Asesoramiento (OC AKIS)\nAula Magna | Redes europeas de asesoramiento (Horizonte Europa)\n\n\n·       Nutrición sostenible – Luis Orcaray (INTIA) \n·       Innovación – Lola de Toro (CeiA3) \n·       Sanidad vegetal – Ana Cano (Cooperativas Agroalimentarias) \n·       Asesoramiento a jóvenes – Alicia Martínez (UPA) \n·       Producción ecológica – Auxiliadora Vecina (Ecovalia) \nPrincipales mensajes de los “policy briefs”\n·       OrganicAdviceNetwork – Antonio Hurtado \n·       STRATUS – Paula Resano \n·       EU4Advice – Patricia Mora \n·       FORADVISE – Aida Rodríguez \n·       DIGI-Rangeland – Eva Pérez \n·       NBSoil – Almudena Olivas \nConexión entre proyectos europeos y sistema AKIS español\n\n\n\n  \n🔹 13:50 – 14:15 | BLOQUE 4 – Mesa de debate – Formación de los asesores agrarios \nCompetencias del asesor   | Certificación profesional   | Formación inicial y continua | Especialización | Calidad del servicio e intrusismo \nModera: Cristina Simon (MAPA) \nPonentes: \n\nNuria M. Montagut (Jefa de Servicio SG de Transferència i Innovació Agroalimentària DARPA)\nMartín Barrasa Rioja (Universidad de Santiago de Compostela)\nLuis Carbonell Zaragoza (S. Técnico Colegio Ingenieros Técnicos Agrícolas Valencia Castellon)\nLuis Antolin de la Cruz (Técnico Asesor del Servicio de Asesoramientos de COAG Castilla y León)\n\n🔹 14:15 – 14:25 | Conclusiones institucionales – MAPA \n  \n🥂 14:25 – 15:30 | Almuerzo networking (cóctel) \n  \n🚌 15:30 | Regreso en autobús a Atocha \n  \nFORMULARIO DE INSCRIPCIÓN \nInscripciones abiertas hasta completar aforo. Los inscrito deben espera a que su inscripción sea confirmada por la organización.
URL:https://lavegainnova.es/evento/jornada-asesores-akis-el-asesoramiento-agrario-como-eje-del-akis-en-espana-y-europa/
LOCATION:La Vega Innova\, iHub La Vega Innova\, Camino de la Vega\, s/n\, San Fernando de Henares\, Madrid\, 28830\, Spain
CATEGORIES:Evento en el iHub
ATTACH;FMTTYPE=image/png:https://lavegainnova.es/wp-content/uploads/2026/04/akis-950-x-630-px.png
END:VEVENT
BEGIN:VEVENT
DTSTART;TZID=Europe/Madrid:20260429T100000
DTEND;TZID=Europe/Madrid:20260429T120000
DTSTAMP:20260423T232114
CREATED:20260320T121049Z
LAST-MODIFIED:20260323T084045Z
UID:5025-1777456800-1777464000@lavegainnova.es
SUMMARY:Agro Business Day
DESCRIPTION:Evento final del III Programa de Aceleración 2025. Un evento donde las startups podrán mostrar su evolución dentro del programa de aceleración a inversores públicos y privados interesados\, o a otras incubadoras y aceleradoras que las puedan apoyar\, además de fomentar oportunidades de colaboración y networking.  
URL:https://lavegainnova.es/evento/agro-business-day/
LOCATION:La Vega Innova\, iHub La Vega Innova\, Camino de la Vega\, s/n\, San Fernando de Henares\, Madrid\, 28830\, Spain
CATEGORIES:Evento en el iHub
ORGANIZER;CN="La Vega Innova":MAILTO:info@lavegainnova.es
END:VEVENT
END:VCALENDAR