BEGIN:VCALENDAR
VERSION:2.0
PRODID:-//La Vega Innova - ECPv6.2.2.1//NONSGML v1.0//EN
CALSCALE:GREGORIAN
METHOD:PUBLISH
X-ORIGINAL-URL:https://lavegainnova.es
X-WR-CALDESC:Eventos para La Vega Innova
REFRESH-INTERVAL;VALUE=DURATION:PT1H
X-Robots-Tag:noindex
X-PUBLISHED-TTL:PT1H
BEGIN:VTIMEZONE
TZID:Europe/Madrid
BEGIN:DAYLIGHT
TZOFFSETFROM:+0100
TZOFFSETTO:+0200
TZNAME:CEST
DTSTART:20240331T010000
END:DAYLIGHT
BEGIN:STANDARD
TZOFFSETFROM:+0200
TZOFFSETTO:+0100
TZNAME:CET
DTSTART:20241027T010000
END:STANDARD
END:VTIMEZONE
BEGIN:VEVENT
DTSTART;TZID=Europe/Madrid:20241001T080000
DTEND;TZID=Europe/Madrid:20241003T170000
DTSTAMP:20260423T201219
CREATED:20240814T080913Z
LAST-MODIFIED:20240814T080913Z
UID:2824-1727769600-1727974800@lavegainnova.es
SUMMARY:ConxeMAR 2024
DESCRIPTION:Feria Internacional de Productos del Mar Congelados y uno de los eventos referentes europeos del sector.
URL:https://lavegainnova.es/evento/conxemar-2024/
LOCATION:IFEVI\, Avenida do Aeroporto\, 772\, Cabral\, Pontevedra\, 36318\, Spain
CATEGORIES:Feria/Congreso
END:VEVENT
BEGIN:VEVENT
DTSTART;TZID=Europe/Madrid:20241001T100000
DTEND;TZID=Europe/Madrid:20241003T140000
DTSTAMP:20260423T201219
CREATED:20240711T124350Z
LAST-MODIFIED:20240711T124407Z
UID:2761-1727776800-1727964000@lavegainnova.es
SUMMARY:Curso: Gestión del riego con tecnologías basadas en IoT.
DESCRIPTION:
URL:https://lavegainnova.es/evento/curso-gestion-del-riego-con-tecnologias-basadas-en-iot/
LOCATION:La Vega Innova\, iHub La Vega Innova\, Camino de la Vega\, s/n\, San Fernando de Henares\, Madrid\, 28830\, Spain
CATEGORIES:Formación
END:VEVENT
BEGIN:VEVENT
DTSTART;TZID=Europe/Madrid:20241001T103000
DTEND;TZID=Europe/Madrid:20241001T174000
DTSTAMP:20260423T201219
CREATED:20240819T110422Z
LAST-MODIFIED:20240819T111640Z
UID:2839-1727778600-1727804400@lavegainnova.es
SUMMARY:AGROALNEXT: EVENTO NACIONAL
DESCRIPTION:Primera edición de la jornada del programa Agroalnext en la que se presentarán los principales resultados del proyecto I+D+i en el que participan centros de investigación y universidades \nde siete comunidades autónomas: Navarra\, Aragón\, La Rioja\, Valencia\, Murcia\, Extremadura y Asturias. Su objetivo es favorecer la doble transformación\, digital y sostenible\, del sector agroalimentario. \nMas información en inscripción aquí. \n \n 
URL:https://lavegainnova.es/evento/agroalnext-evento-nacional/
LOCATION:La Vega Innova\, iHub La Vega Innova\, Camino de la Vega\, s/n\, San Fernando de Henares\, Madrid\, 28830\, Spain
CATEGORIES:Evento en el iHub
END:VEVENT
END:VCALENDAR