BEGIN:VCALENDAR
VERSION:2.0
PRODID:-//La Vega Innova - ECPv6.2.2.1//NONSGML v1.0//EN
CALSCALE:GREGORIAN
METHOD:PUBLISH
X-WR-CALNAME:La Vega Innova
X-ORIGINAL-URL:https://lavegainnova.es
X-WR-CALDESC:Eventos para La Vega Innova
REFRESH-INTERVAL;VALUE=DURATION:PT1H
X-Robots-Tag:noindex
X-PUBLISHED-TTL:PT1H
BEGIN:VTIMEZONE
TZID:Europe/Madrid
BEGIN:DAYLIGHT
TZOFFSETFROM:+0100
TZOFFSETTO:+0200
TZNAME:CEST
DTSTART:20250330T010000
END:DAYLIGHT
BEGIN:STANDARD
TZOFFSETFROM:+0200
TZOFFSETTO:+0100
TZNAME:CET
DTSTART:20251026T010000
END:STANDARD
END:VTIMEZONE
BEGIN:VEVENT
DTSTART;TZID=Europe/Madrid:20250521T093000
DTEND;TZID=Europe/Madrid:20250521T143000
DTSTAMP:20260425T003825
CREATED:20250506T141226Z
LAST-MODIFIED:20250506T141226Z
UID:3960-1747819800-1747837800@lavegainnova.es
SUMMARY:Jornada Red PAC: “Intercambio de experiencias entre Grupos Operativos en la temática de ganadería de precisión”
DESCRIPTION:Los encuentros entre Grupos Operativos recogen distintas temáticas de interés en el campo de la innovación rural y agraria\, incluyendo visitas cruzadas visitas cruzadas para la transferencia de conocimiento in situ. \nEl propósito es poner en contacto a los agentes del ecosistema innovador en España\, así como facilitar el intercambio de información\, hallazgos y soluciones que cada proyecto encuentra en su campo específico. \nInauguración \nEl ciclo de jornadas arranca el próximo 21 de mayo en Madrid bajo la temática de ganadería de precisión\, en un encuentro a celebrar en La Vega Innova y para el cual ya existe registro en el siguiente enlace hasta el próximo 14 de mayo. \nEn este intercambio de experiencias inaugural reuniremos a diferentes Grupos Operativos y Proyectos Innovadores\, así como a otros actores del medio rural que puedan tener interés en implementar los resultados obtenidos en su territorio o formar parte de un nuevo grupo o proyecto en el futuro\, o con interés en la temática a abordar. \nAdemás de su temática\, la jornada servirá para conocer las ayudas en innovación de la Asociación Europea de la Innovación (AEI-AGRI)\, en el marco del PEPAC 2023-2027\, así como al proyecto EU-FarmBook y a la Plataforma de asesores AKIS.
URL:https://lavegainnova.es/evento/jornada-red-pac-intercambio-de-experiencias-entre-grupos-operativos-en-la-tematica-de-ganaderia-de-precision/
LOCATION:La Vega Innova\, iHub La Vega Innova\, Camino de la Vega\, s/n\, San Fernando de Henares\, Madrid\, 28830\, Spain
CATEGORIES:Evento en el iHub
ATTACH;FMTTYPE=image/jpeg:https://lavegainnova.es/wp-content/uploads/2025/05/GpnDTyjWcAA2t4o.jpg
END:VEVENT
END:VCALENDAR