BEGIN:VCALENDAR
VERSION:2.0
PRODID:-//La Vega Innova - ECPv6.2.2.1//NONSGML v1.0//EN
CALSCALE:GREGORIAN
METHOD:PUBLISH
X-WR-CALNAME:La Vega Innova
X-ORIGINAL-URL:https://lavegainnova.es
X-WR-CALDESC:Eventos para La Vega Innova
REFRESH-INTERVAL;VALUE=DURATION:PT1H
X-Robots-Tag:noindex
X-PUBLISHED-TTL:PT1H
BEGIN:VTIMEZONE
TZID:Europe/Madrid
BEGIN:DAYLIGHT
TZOFFSETFROM:+0100
TZOFFSETTO:+0200
TZNAME:CEST
DTSTART:20250330T010000
END:DAYLIGHT
BEGIN:STANDARD
TZOFFSETFROM:+0200
TZOFFSETTO:+0100
TZNAME:CET
DTSTART:20251026T010000
END:STANDARD
END:VTIMEZONE
BEGIN:VEVENT
DTSTART;TZID=Europe/Madrid:20250610T100000
DTEND;TZID=Europe/Madrid:20250610T133000
DTSTAMP:20260425T021201
CREATED:20250317T092049Z
LAST-MODIFIED:20250520T100512Z
UID:3789-1749549600-1749562200@lavegainnova.es
SUMMARY:Agro Business Day
DESCRIPTION:Agro Business Day\, un encuentro que reunirá a las startups de nuestro programa de aceleración con grandes empresas del sector Agrifoodtech y fondos de inversión. El objetivo: fomentar colaboraciones innovadoras y facilitar el acceso a financiación para los proyectos más prometedores \n  \n 
URL:https://lavegainnova.es/evento/demo-day-programa-aceleracion/
LOCATION:La Vega Innova\, iHub La Vega Innova\, Camino de la Vega\, s/n\, San Fernando de Henares\, Madrid\, 28830\, Spain
CATEGORIES:Evento en el iHub
ATTACH;FMTTYPE=image/png:https://lavegainnova.es/wp-content/uploads/2025/03/creatividad-agrobusinessday_v3.png
ORGANIZER;CN="La Vega Innova":MAILTO:info@lavegainnova.es
END:VEVENT
END:VCALENDAR