BEGIN:VCALENDAR
VERSION:2.0
PRODID:-//La Vega Innova - ECPv6.2.2.1//NONSGML v1.0//EN
CALSCALE:GREGORIAN
METHOD:PUBLISH
X-WR-CALNAME:La Vega Innova
X-ORIGINAL-URL:https://lavegainnova.es
X-WR-CALDESC:Eventos para La Vega Innova
REFRESH-INTERVAL;VALUE=DURATION:PT1H
X-Robots-Tag:noindex
X-PUBLISHED-TTL:PT1H
BEGIN:VTIMEZONE
TZID:Europe/Madrid
BEGIN:DAYLIGHT
TZOFFSETFROM:+0100
TZOFFSETTO:+0200
TZNAME:CEST
DTSTART:20260329T010000
END:DAYLIGHT
BEGIN:STANDARD
TZOFFSETFROM:+0200
TZOFFSETTO:+0100
TZNAME:CET
DTSTART:20261025T010000
END:STANDARD
END:VTIMEZONE
BEGIN:VEVENT
DTSTART;TZID=Europe/Madrid:20260422T120000
DTEND;TZID=Europe/Madrid:20260422T140000
DTSTAMP:20260422T014119
CREATED:20260331T082220Z
LAST-MODIFIED:20260331T082220Z
UID:5070-1776859200-1776866400@lavegainnova.es
SUMMARY:Webinar-Piloto Agrivoltaica
DESCRIPTION:Sesión on line donde se presentarán el desarrollo del Piloto Agrivoltaica que realiza el despliegue de módulos sensorizados bajo paneles solares. Estos módulos componen un sistema de monitorización de parámetros determinantes para el crecimiento de los cultivos\, al situarlos bajo las condiciones de los paneles solares\, permiten la generación de datos relevantes para poder cuantificar el grado de afectación de estas variables en los cultivos testados. \n22/04/2026\nPROGRAMA\n12:00/12:10 BIENVENIDA\n12:10/12:20 PRESENTACION LA VEGA INNOVA\n12:20/12:30 INTRODUCCIÓN AL AGROLAB\n12:30/13:00 PILOTO -“AGRIVOLTAICA”\n13:00/13:40 MESA REDONDA\n13:40/13:55 TESTIMONIOS DE USO\n13:55/14:00 RONDA DE PREGUNTAS\n14:00 CIERRE \nInscripción aquí.
URL:https://lavegainnova.es/evento/webinar-piloto-agrivoltaica/
LOCATION:On line
CATEGORIES:Webinar
ATTACH;FMTTYPE=image/png:https://lavegainnova.es/wp-content/uploads/2026/03/webinar-agrivoltaica-2204_TW.png
ORGANIZER;CN="La Vega Innova":MAILTO:info@lavegainnova.es
END:VEVENT
END:VCALENDAR