BEGIN:VCALENDAR
VERSION:2.0
PRODID:-//La Vega Innova - ECPv6.2.2.1//NONSGML v1.0//EN
CALSCALE:GREGORIAN
METHOD:PUBLISH
X-ORIGINAL-URL:https://lavegainnova.es
X-WR-CALDESC:Eventos para La Vega Innova
REFRESH-INTERVAL;VALUE=DURATION:PT1H
X-Robots-Tag:noindex
X-PUBLISHED-TTL:PT1H
BEGIN:VTIMEZONE
TZID:Europe/Madrid
BEGIN:DAYLIGHT
TZOFFSETFROM:+0100
TZOFFSETTO:+0200
TZNAME:CEST
DTSTART:20250330T010000
END:DAYLIGHT
BEGIN:STANDARD
TZOFFSETFROM:+0200
TZOFFSETTO:+0100
TZNAME:CET
DTSTART:20251026T010000
END:STANDARD
END:VTIMEZONE
BEGIN:VEVENT
DTSTART;TZID=Europe/Madrid:20250513T090000
DTEND;TZID=Europe/Madrid:20250515T170000
DTSTAMP:20260425T002710
CREATED:20250425T085008Z
LAST-MODIFIED:20250430T063613Z
UID:3935-1747126800-1747328400@lavegainnova.es
SUMMARY:FOOD4fUTURE 2025
DESCRIPTION:  \nLa Vega Innova estará presente con un stand en la edición 2025 de Food 4 Future – Expo FoodTech\, el evento líder en automatización\, robótica\, tecnología\, IA\, packaging\, logística e innovación para la industria de alimentos y bebidas. \nStand D405. \nAdemás\, ponemos a disposición de empresas y profesionales del sector pases gratuitos de acceso a la feria. Si estás interesado/a\, solo tienes que escribirnos a info@lavegainnova.es con el asunto [Food4Future]. \n 
URL:https://lavegainnova.es/evento/food4future-2025/
LOCATION:Bilbao Exhibition Centre (BEC)\, Azkue Kalea\, 1\,\, Barakaldo\, Barakaldo\, 48902\, Spain
CATEGORIES:Feria/Congreso
ATTACH;FMTTYPE=image/png:https://lavegainnova.es/wp-content/uploads/2025/04/banner-f4f-e1737103514428.png
ORGANIZER;CN="Expo Food Tech":MAILTO:info@expofoodtech.com
END:VEVENT
BEGIN:VEVENT
DTSTART;TZID=Europe/Madrid:20250514T093000
DTEND;TZID=Europe/Madrid:20250517T133000
DTSTAMP:20260425T002710
CREATED:20250425T091406Z
LAST-MODIFIED:20250425T091406Z
UID:3939-1747215000-1747488600@lavegainnova.es
SUMMARY:Expoliva 2025
DESCRIPTION:Participación de La Vega Innova en la principal Feria Mundial para la promoción y el desarrollo del Sector del Olivar y el Aceite de Oliva.
URL:https://lavegainnova.es/evento/expoliva-2025/
LOCATION:IFEJA Ferias Jaén\, Ctra. Granada\, s/n\, Jaén\, Jaén\, 23003\, Spain
CATEGORIES:Feria/Congreso
END:VEVENT
BEGIN:VEVENT
DTSTART;TZID=Europe/Madrid:20250521T093000
DTEND;TZID=Europe/Madrid:20250521T143000
DTSTAMP:20260425T002710
CREATED:20250506T141226Z
LAST-MODIFIED:20250506T141226Z
UID:3960-1747819800-1747837800@lavegainnova.es
SUMMARY:Jornada Red PAC: “Intercambio de experiencias entre Grupos Operativos en la temática de ganadería de precisión”
DESCRIPTION:Los encuentros entre Grupos Operativos recogen distintas temáticas de interés en el campo de la innovación rural y agraria\, incluyendo visitas cruzadas visitas cruzadas para la transferencia de conocimiento in situ. \nEl propósito es poner en contacto a los agentes del ecosistema innovador en España\, así como facilitar el intercambio de información\, hallazgos y soluciones que cada proyecto encuentra en su campo específico. \nInauguración \nEl ciclo de jornadas arranca el próximo 21 de mayo en Madrid bajo la temática de ganadería de precisión\, en un encuentro a celebrar en La Vega Innova y para el cual ya existe registro en el siguiente enlace hasta el próximo 14 de mayo. \nEn este intercambio de experiencias inaugural reuniremos a diferentes Grupos Operativos y Proyectos Innovadores\, así como a otros actores del medio rural que puedan tener interés en implementar los resultados obtenidos en su territorio o formar parte de un nuevo grupo o proyecto en el futuro\, o con interés en la temática a abordar. \nAdemás de su temática\, la jornada servirá para conocer las ayudas en innovación de la Asociación Europea de la Innovación (AEI-AGRI)\, en el marco del PEPAC 2023-2027\, así como al proyecto EU-FarmBook y a la Plataforma de asesores AKIS.
URL:https://lavegainnova.es/evento/jornada-red-pac-intercambio-de-experiencias-entre-grupos-operativos-en-la-tematica-de-ganaderia-de-precision/
LOCATION:La Vega Innova\, iHub La Vega Innova\, Camino de la Vega\, s/n\, San Fernando de Henares\, Madrid\, 28830\, Spain
CATEGORIES:Evento en el iHub
ATTACH;FMTTYPE=image/jpeg:https://lavegainnova.es/wp-content/uploads/2025/05/GpnDTyjWcAA2t4o.jpg
END:VEVENT
BEGIN:VEVENT
DTSTART;VALUE=DATE:20250522
DTEND;VALUE=DATE:20250524
DTSTAMP:20260425T002710
CREATED:20250421T091119Z
LAST-MODIFIED:20250520T113244Z
UID:3920-1747872000-1748044799@lavegainnova.es
SUMMARY:FIWARE Summit 2025
DESCRIPTION:Asistencia de La Vega Innova al Feria anual mundial de FIWARE
URL:https://lavegainnova.es/evento/fiware-summit-2025/
LOCATION:Mohammed VI Polytechnic University\, Avenue Allal Al Fassi\, Rabat\, Avenue Allal Al Fassi\, Morocco
CATEGORIES:Feria/Congreso
END:VEVENT
BEGIN:VEVENT
DTSTART;TZID=Europe/Madrid:20250528T100000
DTEND;TZID=Europe/Madrid:20250528T120000
DTSTAMP:20260425T002710
CREATED:20250425T101030Z
LAST-MODIFIED:20250425T101030Z
UID:3944-1748426400-1748433600@lavegainnova.es
SUMMARY:Visita Embajada de Dinamarca
DESCRIPTION:Visita Embajada de Dinamarca al iHub La Vega Innova
URL:https://lavegainnova.es/evento/visita-embajada-de-dinamarca-2/
LOCATION:La Vega Innova\, iHub La Vega Innova\, Camino de la Vega\, s/n\, San Fernando de Henares\, Madrid\, 28830\, Spain
CATEGORIES:Evento en el iHub
ORGANIZER;CN="La Vega Innova":MAILTO:info@lavegainnova.es
END:VEVENT
END:VCALENDAR