BEGIN:VCALENDAR
VERSION:2.0
PRODID:-//La Vega Innova - ECPv6.2.2.1//NONSGML v1.0//EN
CALSCALE:GREGORIAN
METHOD:PUBLISH
X-WR-CALNAME:La Vega Innova
X-ORIGINAL-URL:https://lavegainnova.es
X-WR-CALDESC:Eventos para La Vega Innova
REFRESH-INTERVAL;VALUE=DURATION:PT1H
X-Robots-Tag:noindex
X-PUBLISHED-TTL:PT1H
BEGIN:VTIMEZONE
TZID:Europe/Madrid
BEGIN:DAYLIGHT
TZOFFSETFROM:+0100
TZOFFSETTO:+0200
TZNAME:CEST
DTSTART:20250330T010000
END:DAYLIGHT
BEGIN:STANDARD
TZOFFSETFROM:+0200
TZOFFSETTO:+0100
TZNAME:CET
DTSTART:20251026T010000
END:STANDARD
END:VTIMEZONE
BEGIN:VEVENT
DTSTART;TZID=Europe/Madrid:20250709T120000
DTEND;TZID=Europe/Madrid:20250709T130000
DTSTAMP:20260425T021135
CREATED:20250527T072250Z
LAST-MODIFIED:20250616T124927Z
UID:4051-1752062400-1752066000@lavegainnova.es
SUMMARY:Webinar - AGROLAB - Trazabilidad Blockchain
DESCRIPTION:Evento on line donde se daremos a conocer en detalle nuestro Agrolab “Trazabilidad Blockchain”\, en el que ponemos a disposición varios servicios basados en esta tecnología de trazabilidad descentralizada para facilitar que los usuarios del iHub puedan familiarizarse\, aprender y disfrutar de los beneficios de ella. \n  \nInscripción aquí.
URL:https://lavegainnova.es/evento/webinar-agrolab-trazabilidad-blockchain/
LOCATION:On-line
CATEGORIES:Webinar
ORGANIZER;CN="La Vega Innova":MAILTO:info@lavegainnova.es
END:VEVENT
END:VCALENDAR