BEGIN:VCALENDAR
VERSION:2.0
PRODID:-//La Vega Innova - ECPv6.2.2.1//NONSGML v1.0//EN
CALSCALE:GREGORIAN
METHOD:PUBLISH
X-WR-CALNAME:La Vega Innova
X-ORIGINAL-URL:https://lavegainnova.es
X-WR-CALDESC:Eventos para La Vega Innova
REFRESH-INTERVAL;VALUE=DURATION:PT1H
X-Robots-Tag:noindex
X-PUBLISHED-TTL:PT1H
BEGIN:VTIMEZONE
TZID:Europe/Madrid
BEGIN:DAYLIGHT
TZOFFSETFROM:+0100
TZOFFSETTO:+0200
TZNAME:CEST
DTSTART:20250330T010000
END:DAYLIGHT
BEGIN:STANDARD
TZOFFSETFROM:+0200
TZOFFSETTO:+0100
TZNAME:CET
DTSTART:20251026T010000
END:STANDARD
END:VTIMEZONE
BEGIN:VEVENT
DTSTART;TZID=Europe/Madrid:20250910T120000
DTEND;TZID=Europe/Madrid:20250910T140000
DTSTAMP:20260425T045627
CREATED:20250730T094355Z
LAST-MODIFIED:20250730T094613Z
UID:4202-1757505600-1757512800@lavegainnova.es
SUMMARY:Webinar: Piloto Estimación de Rendimiento
DESCRIPTION:Sesión on line donde se explicarán los trabajos desarrollados en el Piloto Estimación Rendimiento\, de La Vega Innova\, cuyo objetivo es implementar un sistema de optimización de cultivos en explotaciones agrícolas mediante algoritmos de inteligencia artificial. Además\, se  explorarán y analizarán las posibilidades de la tecnología Big Data y Machine Learning para la mejora del rendimiento en el sector agrícola. \nInscripción  \nPROGRAMA \n12:00/12:10 BIENVENIDA\n12:10/12:20 PRESENTACION LA VEGA INNOVA\n12:20/12:30 INTRODUCCIÓN PILOTOS ESTIMACIÓN DE RENDIMIENTO\n12:30/13:00 PILOTO ESTIMACIÓN DE RENDIMIENTO\n13:00/13:40 MESA REDONDA “Agrodatos para optimizar cultivos”\n13:40/13:55 TESTIMONIOS USO DEL USO DE DATOS EN EL SECTOR AGRÍCOLA\n13:55/14:00 RONDA DE PREGUNTAS\n14:00 CIERRE
URL:https://lavegainnova.es/evento/webinar-piloto-estimacion-de-rendimiento/
LOCATION:Madrid
CATEGORIES:Webinar
ATTACH;FMTTYPE=image/png:https://lavegainnova.es/wp-content/uploads/2025/07/webinar-estimacion-rendimiento_TW.png
ORGANIZER;CN="La Vega Innova":MAILTO:info@lavegainnova.es
END:VEVENT
BEGIN:VEVENT
DTSTART;TZID=Europe/Madrid:20250911T120000
DTEND;TZID=Europe/Madrid:20250911T180000
DTSTAMP:20260425T045627
CREATED:20250818T072250Z
LAST-MODIFIED:20250902T070414Z
UID:4208-1757592000-1757613600@lavegainnova.es
SUMMARY:Curso: Introducción a Espacios de datos y aplicación en el sector AgriFoodTech
DESCRIPTION:Formación on line donde se ofrecerá una visión completa sobre los espacios de datos desde el punto de vista de los retos que resuelven\, los beneficios que aportan y lo que supone su implantación\, considerando aspectos específicos del sector agroalimentario. Se repasarán a su vez principales iniciativas a nivel europeo y estándares tecnológicos que deben considerarse a la hora de implementar espacios de datos. \n  \nEste curso te prepara para poder realizar la próxima formación: Tecnologías FIWARE para espacios de datos en profundidad. \n  \nMás información aquí
URL:https://lavegainnova.es/evento/curso-introduccion-a-espacios-de-datos-y-aplicacion-en-el-sector-agrifoodtech/
LOCATION:Madrid
CATEGORIES:Formación
ATTACH;FMTTYPE=image/png:https://lavegainnova.es/wp-content/uploads/2025/08/Curso-Introduccion-a-Espacios-de-datos-y-aplicacion-en-el-sector-AgriFoodTech-TW.png
ORGANIZER;CN="La Vega Innova":MAILTO:info@lavegainnova.es
END:VEVENT
BEGIN:VEVENT
DTSTART;TZID=Europe/Madrid:20250915T083000
DTEND;TZID=Europe/Madrid:20250915T150000
DTSTAMP:20260425T045627
CREATED:20250909T111849Z
LAST-MODIFIED:20250909T111849Z
UID:4293-1757925000-1757948400@lavegainnova.es
SUMMARY:Encuentro anual de Agricultura de Precisión
DESCRIPTION:Concepto de evento:  \nEnfoque integral del ciclo completo de producción: DEL DATO AL PLATO | FROM BYTE TO BITE \n  \nDurante la jornada\, se realizará un recorrido por todas las tecnologías disponibles a lo largo de todo el ciclo productivo.
URL:https://lavegainnova.es/evento/encuentro-anual-de-agricultura-de-precision/
LOCATION:John Deere Parla Innovation Center\, Bulevar John Deere\,\, Parla\, Madrid\, 28984\, Spain
CATEGORIES:Feria/Congreso
END:VEVENT
BEGIN:VEVENT
DTSTART;TZID=Europe/Madrid:20250917T080000
DTEND;TZID=Europe/Madrid:20250917T170000
DTSTAMP:20260425T045627
CREATED:20250819T092309Z
LAST-MODIFIED:20250819T092309Z
UID:4219-1758096000-1758128400@lavegainnova.es
SUMMARY:Jornada Agrotech (el futuro de la tecnología en el sector agroalimentario)
DESCRIPTION:Fundación Conexus Madrid-Comunitat Valenciana organiza una jornada en Madrid donde expertos\, empresas y líderes del sector analizarán los retos y oportunidades que la innovación tecnológica ofrece a la agroindustria.
URL:https://lavegainnova.es/evento/jornada-agrotech-el-futuro-de-la-tecnologia-en-el-sector-agroalimentario/
LOCATION:Madrid
CATEGORIES:Feria/Congreso
ORGANIZER;CN="Fundaci%C3%B3n Conexus Madrid-Comunitat Valenciana":MAILTO:informacion@fundacionconexus.es
END:VEVENT
BEGIN:VEVENT
DTSTART;TZID=Europe/Madrid:20250922T160000
DTEND;TZID=Europe/Madrid:20250925T150000
DTSTAMP:20260425T045627
CREATED:20250818T072531Z
LAST-MODIFIED:20250902T070331Z
UID:4212-1758556800-1758812400@lavegainnova.es
SUMMARY:Curso: Instalaciones Agrivoltáicas
DESCRIPTION:Este curso proporciona una formación técnica y práctica sobre el diseño\, instalación y mantenimiento de sistemas solares fotovoltaicos aplicados al entorno agrícola. Está dirigido a profesionales del sector agrario\, ganadero\, técnicos en energías renovables\, estudiantes de FP agrario o de universidad y agricultores interesados en implementar soluciones sostenibles para el abastecimiento energético en sus explotaciones. \nMás información aquí
URL:https://lavegainnova.es/evento/curso-instalaciones-solares-fotovoltaicas-agricolas/
LOCATION:La Vega Innova\, iHub La Vega Innova\, Camino de la Vega\, s/n\, San Fernando de Henares\, Madrid\, 28830\, Spain
CATEGORIES:Formación
ATTACH;FMTTYPE=image/png:https://lavegainnova.es/wp-content/uploads/2025/09/Captura-de-pantalla-2025-09-02-090135.png
ORGANIZER;CN="La Vega Innova":MAILTO:info@lavegainnova.es
END:VEVENT
BEGIN:VEVENT
DTSTART;TZID=Europe/Madrid:20250924T080000
DTEND;TZID=Europe/Madrid:20250926T170000
DTSTAMP:20260425T045627
CREATED:20250819T093057Z
LAST-MODIFIED:20250819T093057Z
UID:4222-1758700800-1758906000@lavegainnova.es
SUMMARY:Al Andalus Innovation Venture
DESCRIPTION:Al Andalus Innovation Venture el evento de referencia nacional en materia de scaleups y open innovation en España celebrará su cuarta edición los días 24 y 25 de septiembre de 2025 en el Pabellon de la Navegación de Sevilla.  Tras una tercera edición exitosa con más de 2.300 asistentes\, con una fuerte presencia de fondos de inversión y corporaciones españolas (+300 inversores y CIOs)\, Al Andalus Innovation Venture volverá a ubicar a Sevilla como centro de la innovación y las scaleups de la Península Ibérica la última semana de septiembre de 2025.
URL:https://lavegainnova.es/evento/al-andalus-innovation-venture-2/
LOCATION:Pabellón de la Navegación de Sevilla\, Camino de los Descubrimientos\, 2\,\, Sevilla\, Sevilla\, 41092\, Spain
CATEGORIES:Feria/Congreso
END:VEVENT
BEGIN:VEVENT
DTSTART;TZID=Europe/Madrid:20250925T080000
DTEND;TZID=Europe/Madrid:20250926T170000
DTSTAMP:20260425T045627
CREATED:20250819T093640Z
LAST-MODIFIED:20250819T093640Z
UID:4226-1758787200-1758906000@lavegainnova.es
SUMMARY:III Congreso Internacional de Inteligencia Artificial aplicada a la cadena agroalimentaria – SembrAI 2025
DESCRIPTION:III Congreso Internacional de Inteligencia Artificial aplicada a la cadena agroalimentaria – SembrAI 2025\, que se celebrará los días 25 y 26 de septiembre de 2025 en el Edificio del Rectorado de la Universidad de Córdoba\, organizado conjuntamente por la Fundación INTEC y la Universidad de Córdoba\, con el respaldo de instituciones como la Comisión Europea\, los Ministerios de Agricultura y Transformación Digital\, la Junta de Andalucía\, la Diputación de Córdoba y el Ayuntamiento de Córdoba. \nTras dos exitosas ediciones\, SembrAI se ha consolidado como el principal foro europeo sobre IA aplicada a la cadena agroalimentaria\, integrando ciencia\, innovación\, empresa y territorio. Ha sido reconocido de interés científico por el Ministerio de Ciencia\, Innovacion y Universidades. En este contexto\, el ceiA3 como colaborador tendrá una participación activa como referentes en transferencia tecnológica y conocimiento aplicado.
URL:https://lavegainnova.es/evento/iii-congreso-internacional-de-inteligencia-artificial-aplicada-a-la-cadena-agroalimentaria-sembrai-2025/
LOCATION:Rectorado Universidad de Córdoba\, Av. de Medina Azahara\, 5\, Córdoba\, Córdoba\, 14071\, Spain
CATEGORIES:Feria/Congreso
END:VEVENT
BEGIN:VEVENT
DTSTART;VALUE=DATE:20250930
DTEND;VALUE=DATE:20251003
DTSTAMP:20260425T045627
CREATED:20250819T094202Z
LAST-MODIFIED:20250819T094202Z
UID:4230-1759190400-1759449599@lavegainnova.es
SUMMARY:Fruit Attraction 2025
DESCRIPTION:Del 30 de septiembre al 2 de octubre\, Madrid se convertirá en el epicentro mundial para operadores\, retailers y profesionales que buscan crecer\, conectar y transformar sus estrategias comerciales. \nFruit Attraction es el lugar donde la oferta y la demanda internacional se encuentran en el momento clave para planificar campañas y abrir puertas a nuevos mercados.
URL:https://lavegainnova.es/evento/fruit-attraction-2025/
LOCATION:IFEMA\, Avenida del Partenón\, 5\,\, Barajas\, Madrid\, 28042\, Spain
CATEGORIES:Feria/Congreso
END:VEVENT
END:VCALENDAR